BEGIN:VCALENDAR
VERSION:2.0
PRODID:-//Squarespace Inc/Squarespace 6//v6//EN
BEGIN:VEVENT
UID:66f1c59c7c1d5922c2a6d1b2@squarespace.com
DTSTAMP:20250318T083036Z
DTSTART:20241015T180000Z
DTEND:20241015T190000Z
SUMMARY:Financial Health for Seniors
GEO:40.720756;-74.000761
LOCATION:Shepherd of the Hills Church\, N36W24130 Pewaukee Road\, Pewaukee\
 , WI\, 53072\, United States
END:VEVENT
END:VCALENDAR
