BEGIN:VCALENDAR
VERSION:2.0
PRODID:-//Squarespace Inc/Squarespace 6//v6//EN
BEGIN:VEVENT
UID:69ab0c2220394f63b91b59f0@squarespace.com
DTSTAMP:20260312T081255Z
DTSTART:20260401T190000Z
DTEND:20260401T200000Z
SUMMARY:Moving & Downsizing Event at The Westerly
GEO:43.088002;-88.22573
LOCATION:The Westerly Pewaukee\, 409 Swan Road\, Pewaukee\, WI\, 53072\, Un
 ited States
END:VEVENT
END:VCALENDAR
