BEGIN:VCALENDAR
VERSION:2.0
PRODID:-//Squarespace Inc/Squarespace 6//v6//EN
BEGIN:VEVENT
UID:68b5f87267aef33be1435392@squarespace.com
DTSTAMP:20251126T194950Z
DTSTART:20250930T190000Z
DTEND:20250930T210000Z
SUMMARY:A Caregiver’s Story of Love and Hope
GEO:43.088002;-88.22573
LOCATION:The Westerly Pewaukee
END:VEVENT
END:VCALENDAR
