BEGIN:VCALENDAR
VERSION:2.0
PRODID:-//Squarespace Inc/Squarespace 6//v6//EN
BEGIN:VEVENT
UID:6871670935a0577cf671db04@squarespace.com
DTSTAMP:20251126T194950Z
DTSTART:20250717T163000Z
DTEND:20250717T193000Z
SUMMARY:OPEN HOUSE & COOK OUT AT THE WESTERLY
GEO:43.088002;-88.22573
LOCATION:The Westerly Pewaukee\, 409 Swan Road\, Pewaukee\, WI\, 53072\, Un
 ited States
END:VEVENT
END:VCALENDAR
