BEGIN:VCALENDAR
VERSION:2.0
PRODID:-//Squarespace Inc/Squarespace 6//v6//EN
BEGIN:VEVENT
UID:684a8d83039f375a8d7e8664@squarespace.com
DTSTAMP:20251126T194950Z
DTSTART:20250619T180000Z
DTEND:20250619T210000Z
SUMMARY:Open House on Thursday\, June 19th
END:VEVENT
END:VCALENDAR
