BEGIN:VCALENDAR
VERSION:2.0
PRODID:-//Squarespace Inc/Squarespace 6//v6//EN
BEGIN:VEVENT
UID:67cf2ee7a9dd2e3fec693281@squarespace.com
DTSTAMP:20250310T183431Z
DTSTART:20250409T050000Z
DTEND:20250410T045500Z
SUMMARY:Professional Healthcare Networking Breakfast
END:VEVENT
END:VCALENDAR
