BEGIN:VCALENDAR
VERSION:2.0
PRODID:-//Squarespace Inc/Squarespace 6//v6//EN
BEGIN:VEVENT
UID:66f1c4bd281dbd0edf28c9ea@squarespace.com
DTSTAMP:20250318T082919Z
DTSTART:20241003T180000Z
DTEND:20241003T190000Z
SUMMARY:Sell\, Donate and Store
GEO:40.720756;-74.000761
LOCATION:Shepherd of the Hills Church\, N36W24130 Pewaukee Road\, Pewaukee\
 , WI\, 53072\, United States
END:VEVENT
END:VCALENDAR
