BEGIN:VCALENDAR
VERSION:2.0
PRODID:-//Squarespace Inc/Squarespace 6//v6//EN
BEGIN:VEVENT
UID:67bdf18f79dc4e4fe7543ae7@squarespace.com
DTSTAMP:20250318T082738Z
DTSTART:20250408T150000Z
DTEND:20250408T190000Z
SUMMARY:Senior Resource Vendor Fair
END:VEVENT
END:VCALENDAR
