BEGIN:VCALENDAR
VERSION:2.0
PRODID:-//Squarespace Inc/Squarespace 6//v6//EN
BEGIN:VEVENT
UID:66f1c669d809641d2a269438@squarespace.com
DTSTAMP:20250318T082940Z
DTSTART:20241107T190000Z
DTEND:20241107T200000Z
SUMMARY:The State of The Westerly
GEO:40.720756;-74.000761
LOCATION:Shepherd of the Hills Church\, N36W24130 Pewaukee Road\, Pewaukee\
 , WI\, 53072\, United States
END:VEVENT
END:VCALENDAR
