BEGIN:VCALENDAR
VERSION:2.0
PRODID:-//Squarespace Inc/Squarespace 6//v6//EN
BEGIN:VEVENT
UID:69b1c41912f88d6a622e4c77@squarespace.com
DTSTAMP:20260313T152655Z
DTSTART:20260408T170000Z
DTEND:20260408T230000Z
SUMMARY:Swing into Spring!
GEO:43.088002;-88.22573
LOCATION:The Westerly Pewaukee\, 409 Swan Road\, Pewaukee\, WI\, 53072\, Un
 ited States
END:VEVENT
END:VCALENDAR
