BEGIN:VCALENDAR
VERSION:2.0
PRODID:-//Squarespace Inc/Squarespace 6//v6//EN
BEGIN:VEVENT
UID:67bca8d8644d370a17f0f764@squarespace.com
DTSTAMP:20250318T083329Z
DTSTART:20250411T200000Z
DTEND:20250411T230000Z
SUMMARY:Community Open House
END:VEVENT
END:VCALENDAR
