BEGIN:VCALENDAR
VERSION:2.0
PRODID:-//Squarespace Inc/Squarespace 6//v6//EN
BEGIN:VEVENT
UID:66f1c6e7e2ea465a37ba0766@squarespace.com
DTSTAMP:20250318T082902Z
DTSTART:20241119T190000Z
DTEND:20241119T200000Z
SUMMARY:Today’s Real Estate Market
GEO:40.720756;-74.000761
LOCATION:Shepherd of the Hills Church\, N36W24130 Pewaukee Road\, Pewaukee\
 , WI\, 53072\, United States
END:VEVENT
END:VCALENDAR
