BEGIN:VCALENDAR
VERSION:2.0
PRODID:-//Squarespace Inc/Squarespace 6//v6//EN
BEGIN:VEVENT
UID:69dea4717e4cc13cbbd0e002@squarespace.com
DTSTAMP:20260414T205257Z
DTSTART:20261003T133000Z
DTEND:20261004T023000Z
SUMMARY:Together\, We Walk for Memories
GEO:43.088002;-88.22573
LOCATION:The Westerly Pewaukee\, 409 Swan Road\, Pewaukee\, WI\, 53072\, Un
 ited States
END:VEVENT
END:VCALENDAR
