BEGIN:VCALENDAR
VERSION:2.0
PRODID:-//Squarespace Inc/Squarespace 6//v6//EN
BEGIN:VEVENT
UID:66f182c972b7c371b6ac13e0@squarespace.com
DTSTAMP:20250318T083353Z
DTSTART:20240924T180000Z
DTEND:20240924T190000Z
SUMMARY:What It Means to Age in Place
GEO:40.720756;-74.000761
LOCATION:Shepherd of the Hills Church\, N36W24130 Pewaukee Road\, Pewaukee\
 , WI\, 53072\, United States
END:VEVENT
END:VCALENDAR
