BEGIN:VCALENDAR
VERSION:2.0
PRODID:-//Squarespace Inc/Squarespace 6//v6//EN
BEGIN:VEVENT
UID:6970bf219d4b793422cebf1f@squarespace.com
DTSTAMP:20260121T120928Z
DTSTART:20260201T190000Z
DTEND:20260201T230000Z
SUMMARY:7st Annual Pewaukee Senior Art Showcase
GEO:43.088002;-88.22573
LOCATION:The Westerly Pewaukee\, 409 Swan Road\, Pewaukee\, WI\, 53072\, Un
 ited States
END:VEVENT
END:VCALENDAR
