BEGIN:VCALENDAR
VERSION:2.0
PRODID:-//Squarespace Inc/Squarespace 6//v6//EN
BEGIN:VEVENT
UID:694aae3023c4b00b695718b7@squarespace.com
DTSTAMP:20260312T081232Z
DTSTART:20260318T190000Z
DTEND:20260318T220000Z
SUMMARY:Lighting the Way: An Inspirational Talk of Hope & Faith
GEO:43.088002;-88.22573
LOCATION:The Westerly Pewaukee\, 409 Swan Road\, Pewaukee\, WI\, 53072\, Un
 ited States
END:VEVENT
END:VCALENDAR
